BEGIN:VCALENDAR
VERSION:2.0
PRODID:-//YoloTD - ECPv6.15.20//NONSGML v1.0//EN
CALSCALE:GREGORIAN
METHOD:PUBLISH
X-ORIGINAL-URL:https://yolotd.org
X-WR-CALDESC:Events for YoloTD
REFRESH-INTERVAL;VALUE=DURATION:PT1H
X-Robots-Tag:noindex
X-PUBLISHED-TTL:PT1H
BEGIN:VTIMEZONE
TZID:America/Los_Angeles
BEGIN:DAYLIGHT
TZOFFSETFROM:-0800
TZOFFSETTO:-0700
TZNAME:PDT
DTSTART:20230312T100000
END:DAYLIGHT
BEGIN:STANDARD
TZOFFSETFROM:-0700
TZOFFSETTO:-0800
TZNAME:PST
DTSTART:20231105T090000
END:STANDARD
BEGIN:DAYLIGHT
TZOFFSETFROM:-0800
TZOFFSETTO:-0700
TZNAME:PDT
DTSTART:20240310T100000
END:DAYLIGHT
BEGIN:STANDARD
TZOFFSETFROM:-0700
TZOFFSETTO:-0800
TZNAME:PST
DTSTART:20241103T090000
END:STANDARD
BEGIN:DAYLIGHT
TZOFFSETFROM:-0800
TZOFFSETTO:-0700
TZNAME:PDT
DTSTART:20250309T100000
END:DAYLIGHT
BEGIN:STANDARD
TZOFFSETFROM:-0700
TZOFFSETTO:-0800
TZNAME:PST
DTSTART:20251102T090000
END:STANDARD
END:VTIMEZONE
BEGIN:VEVENT
DTSTART;VALUE=DATE:20240702
DTEND;VALUE=DATE:20240708
DTSTAMP:20260421T082034
CREATED:20240709T165455Z
LAST-MODIFIED:20240709T165455Z
UID:4173-1719878400-1720396799@yolotd.org
SUMMARY:Free Ride | Yolobus Fixed Route Services
DESCRIPTION:The National Weather Service has issued an Excessive Heat Warning for the Yolo County region beginning July 2 at 11:00 AM PDT until July 6 at 8:00 PM PDT. Due to this excessive heat\, Yolobus fixed route services (except RT 138) will be free starting July 2 until July 7. \nYolobus vehicles are air conditioned and most will stop at or near designated cooling centers in the region. To locate a cooling center near you\, please visit bit.ly/YoloCoolingCenters. If you need help finding the best route to get to the cooling center from where you are\, please call us at (530) 666-BUSS (2877). 
URL:https://yolotd.org/calendar/20240702-freeride001/
LOCATION:CA
CATEGORIES:Free Ride Day
ATTACH;FMTTYPE=image/jpeg:https://yolotd.org/wp-content/uploads/2024/07/Heat-Advisory-16x9-001-copy.jpg
END:VEVENT
BEGIN:VEVENT
DTSTART;VALUE=DATE:20240704
DTEND;VALUE=DATE:20240705
DTSTAMP:20260421T082034
CREATED:20240626T223021Z
LAST-MODIFIED:20240626T223021Z
UID:4140-1720051200-1720137599@yolotd.org
SUMMARY:Office Closure | Independence Day
DESCRIPTION:Thu\, Jul 4 | YoloTD Office Closure & Yolobus Limited Service\nThe YoloTD office will be closed on Thursday\, July 4\, 2024 for Independence Day. Regular office hours will resume on Monday\, July 8\, 2024. \nYolobus services will operate with limited service on Thursday\, July 4\, 2024: \n\nRoutes 40\, 42A\, 42B\, 211\, 212\, 215\, and 240 will operate on a Sunday schedule.\nExpress Routes will not be in operation.\nBeeLine service will not be in operation.\nRoutes 37\, 41\, and 138 will not be in operation.\n\nAll Yolobus services will resume regular schedules on Friday\, July 5\, 2024. \nFor more information on Yolobus services on Holiday schedules\, please visit Yolobus.com/Holiday
URL:https://yolotd.org/calendar/20240704-holiday/
LOCATION:YoloTD Office\, 350 Industrial Way\, Woodland\, CA\, 95776\, United States
CATEGORIES:Closure Notices
ATTACH;FMTTYPE=image/jpeg:https://yolotd.org/wp-content/uploads/2024/06/2024-07-04_Closure-Notice-16x9-1.jpg
END:VEVENT
BEGIN:VEVENT
DTSTART;TZID=America/Los_Angeles:20240708T080000
DTEND;TZID=America/Los_Angeles:20240708T170000
DTSTAMP:20260421T082034
CREATED:20240514T143551Z
LAST-MODIFIED:20240610T202005Z
UID:3870-1720425600-1720458000@yolotd.org
SUMMARY:YoloTD Board of Directors Meeting
DESCRIPTION:The YoloTD Board of Directors is scheduled to meet on Jul 8\, 2024 at 6:00 PM. The meeting will be held in person at the YoloTD office located at 350 Industrial Way\, Woodland\, CA 95776. Members of the public may also participate in-person or virtually via Zoom. \nZOOM INFORMATION \n\nLink: https://us06web.zoom.us/j/87969227172?pwd=uZtLwJ9uLFC1Aedi-Y5LrMrgxK-ZYg.B3_28oRDmT0rgxlu\nPhone Number: (669) 900-6833\nWebinar ID: 879 6922 7172\nPasscode: 105086\n\nAll participants will be entered into the webinar as attendees. \nFull agenda packet and meeting information can be found here.
URL:https://yolotd.org/calendar/20240708-bod/
LOCATION:YoloTD Office\, 350 Industrial Way\, Woodland\, CA\, 95776\, United States
CATEGORIES:Meetings
ATTACH;FMTTYPE=image/jpeg:https://yolotd.org/wp-content/uploads/2024/05/FIMG_20240708-BoDMeeting.jpg
END:VEVENT
BEGIN:VEVENT
DTSTART;VALUE=DATE:20240710
DTEND;VALUE=DATE:20240713
DTSTAMP:20260421T082034
CREATED:20240709T165259Z
LAST-MODIFIED:20240709T165259Z
UID:4171-1720569600-1720828799@yolotd.org
SUMMARY:Free Ride | Yolobus Fixed Route Services
DESCRIPTION:The National Weather Service has issued an Excessive Heat Warning for the Yolo County region beginning July 10 at 11:00 AM PDT until July 12 at 8:00 PM PDT. Due to this excessive heat\, Yolobus fixed route services (except RT 138) will be free starting July 10 until July 12. \nYolobus vehicles are air conditioned and most will stop at or near designated cooling centers in the region. To locate a cooling center near you\, please visit bit.ly/YoloCoolingCenters. If you need help finding the best route to get to the cooling center from where you are\, please call us at (530) 666-BUSS (2877). 
URL:https://yolotd.org/calendar/20240710-freeride001/
LOCATION:CA
CATEGORIES:Free Ride Day
ATTACH;FMTTYPE=image/jpeg:https://yolotd.org/wp-content/uploads/2024/07/Heat-Advisory-16x9-002.jpg
END:VEVENT
END:VCALENDAR