BEGIN:VCALENDAR
VERSION:2.0
PRODID:-//YoloTD - ECPv6.15.20//NONSGML v1.0//EN
CALSCALE:GREGORIAN
METHOD:PUBLISH
X-ORIGINAL-URL:https://yolotd.org
X-WR-CALDESC:Events for YoloTD
REFRESH-INTERVAL;VALUE=DURATION:PT1H
X-Robots-Tag:noindex
X-PUBLISHED-TTL:PT1H
BEGIN:VTIMEZONE
TZID:America/Los_Angeles
BEGIN:DAYLIGHT
TZOFFSETFROM:-0800
TZOFFSETTO:-0700
TZNAME:PDT
DTSTART:20230312T100000
END:DAYLIGHT
BEGIN:STANDARD
TZOFFSETFROM:-0700
TZOFFSETTO:-0800
TZNAME:PST
DTSTART:20231105T090000
END:STANDARD
BEGIN:DAYLIGHT
TZOFFSETFROM:-0800
TZOFFSETTO:-0700
TZNAME:PDT
DTSTART:20240310T100000
END:DAYLIGHT
BEGIN:STANDARD
TZOFFSETFROM:-0700
TZOFFSETTO:-0800
TZNAME:PST
DTSTART:20241103T090000
END:STANDARD
BEGIN:DAYLIGHT
TZOFFSETFROM:-0800
TZOFFSETTO:-0700
TZNAME:PDT
DTSTART:20250309T100000
END:DAYLIGHT
BEGIN:STANDARD
TZOFFSETFROM:-0700
TZOFFSETTO:-0800
TZNAME:PST
DTSTART:20251102T090000
END:STANDARD
END:VTIMEZONE
BEGIN:VEVENT
DTSTART;VALUE=DATE:20240802
DTEND;VALUE=DATE:20240803
DTSTAMP:20260421T095225
CREATED:20240802T200533Z
LAST-MODIFIED:20240802T200913Z
UID:4220-1722556800-1722643199@yolotd.org
SUMMARY:YoloTD Office Closure & Yolobus Limited Service
DESCRIPTION:Mon\, Sep 2 | YoloTD Office Closure & Yolobus Limited Service\nThe YoloTD office will be closed on Monday\, September 2\, 2024 for Labor Day. Regular office hours will resume on Tuesday\, September 3\, 2024. \nYolobus services will operate with limited service on Monday\, September 2\, 2024: \n\nRoutes 40\, 42A\, 42B\, 211\, 212\, 215\, and 240 will operate on a Sunday schedule.\nExpress Routes will not be in operation.\nBeeLine service will not be in operation.\nRoutes 37\, 41\, and 138 will not be in operation.\n\nAll Yolobus services will resume regular schedules on Tuesday\, September 3\, 2024. \nFor more information on Yolobus services on Holiday schedules\, please visit Yolobus.com/Holiday
URL:https://yolotd.org/calendar/20240902-holiday/
LOCATION:YoloTD Office\, 350 Industrial Way\, Woodland\, CA\, 95776\, United States
CATEGORIES:Closure Notices
ATTACH;FMTTYPE=image/jpeg:https://yolotd.org/wp-content/uploads/2024/08/2024-09-02_Closure-Notice-Labor-Day.jpg
END:VEVENT
END:VCALENDAR